BEGIN:VCALENDAR
VERSION:2.0
PRODID:icalendar-ruby
CALSCALE:GREGORIAN
METHOD:PUBLISH
BEGIN:VEVENT
DTSTAMP:20260422T074709Z
UID:12-457173@cothfay.com
DTSTART:20261018T163000Z
DTEND:20261018T174500Z
CLASS:PUBLIC
CREATED:20260421T182900
DESCRIPTION:Are you ready to meet new friends and hear amazing Bible-based 
 teaching that’s relevant to your life? Then School of the Bible (Sunday 
 school) is the place for you! Learn more about the Bible\, make new friend
 s\, and get ready to have a lot of fun.\nEvery Sunday at 9:45am 
LAST-MODIFIED:20260421T182900
LOCATION:Church of the Harvest
SUMMARY:School of the Bible Sunday School
URL;VALUE=URI:https://cothfay.com/events/school-of-the-bible-sunday-school/
 2026-10-18
ATTACH;FILENAME=ChatGPT-Image-May-24%2C-2025-at-09_58_57-AM.png;FMTTYPE=ima
 ge/png:https://dq5pwpg1q8ru0.cloudfront.net/2025/06/05/00/11/46/7607e11c-7
 246-4a41-bc94-eb74d5e5fe7f/ChatGPT-Image-May-24%252C-2025-at-09_58_57-AM.p
 ng
END:VEVENT
END:VCALENDAR
